BEGIN:VCALENDAR
VERSION:2.0
PRODID:-//ExpressionEngine Easy iCalendar plugin//NONSGML v2.0.1//EN
X-WR-TIMEZONE:America/New_York
X-WR-CALNAME:Upcoming Auctions
BEGIN:VEVENT
UID:154328
DTSTAMP:20260116T000000
DTSTART:20260116T000000
DTEND:20260125T190000
SUMMARY:January 2026 Farm Toy & Memorabilia Auction
LOCATION:{location}
DESCRIPTION:AUCTIONEERâ€™S NOTE: Brad Neuhart Auctioneer's are honored t
 o bring you this AMAZING collection of FARM TOYS\, TOY TRUCKS
  and Memorabilia!! Bidding will be open in mid January and i
 tems will begin ending on SUNDAY January 25\, 2026 at 7pm eas
 tern. We will host a preview to view items in person on Wedn
 esday January 21\, 2026 from 11am-5pm at 12544 Carpenter Rd.Â
  Â  Milan\, MI 48160. Item payment and pickup will be on Tues
 day January 27\, 2026 from 10am-5pm. We will be offering worl
 d-wide\, in-house shipping on most of the items. Â 
URL:https://www.bradneuhart.com/auctions/detail/bw154328
SEQUENCE:1
END:VEVENT
END:VCALENDAR